BEGIN:VCALENDAR
VERSION:2.0
PRODID:-//New Acropolis Cultural Organization - ECPv6.15.15//NONSGML v1.0//EN
CALSCALE:GREGORIAN
METHOD:PUBLISH
X-WR-CALNAME:New Acropolis Cultural Organization
X-ORIGINAL-URL:https://dev.acropolis.org.in
X-WR-CALDESC:Events for New Acropolis Cultural Organization
REFRESH-INTERVAL;VALUE=DURATION:PT1H
X-Robots-Tag:noindex
X-PUBLISHED-TTL:PT1H
BEGIN:VTIMEZONE
TZID:Asia/Kolkata
BEGIN:STANDARD
TZOFFSETFROM:+0530
TZOFFSETTO:+0530
TZNAME:IST
DTSTART:20180101T000000
END:STANDARD
END:VTIMEZONE
BEGIN:VEVENT
DTSTART;TZID=Asia/Kolkata:20191221T233000
DTEND;TZID=Asia/Kolkata:20191222T013000
DTSTAMP:20260419T223703
CREATED:20191005T015423Z
LAST-MODIFIED:20191205T164006Z
UID:17420-1576971000-1576978200@dev.acropolis.org.in
SUMMARY:At the feet of Dharma – lessons from the Dhammapada
DESCRIPTION:It is said that the Buddha’s journey took him from a princely life into a dedicated search for a solution to the suffering of all mankind. Let’s explore how we could walk a few steps on the path he paved\, to sow some seeds of wisdom in our lives. \nRSVP for Free seat – http://bit.ly/2mmijVs
URL:https://dev.acropolis.org.in/event/at-the-feet-of-dharma-lessons-from-the-dhammapada/
LOCATION:New Acropolis Pune\, Row House No. 6\, Gera Classics Condominium Next to St. Meers's college\, Koregaon park road Pune\, Maharashtra 411001\, Pune\, Maharashtra\, 411001\, India
CATEGORIES:Philosophy,Pune
ATTACH;FMTTYPE=image/jpeg:https://dev.acropolis.org.in/wp-content/uploads/2019/10/dhammapada.jpg
ORGANIZER;CN="New Acropolis Pune":MAILTO:pune@acropolis.org
END:VEVENT
BEGIN:VEVENT
DTSTART;TZID=Asia/Kolkata:20191123T233000
DTEND;TZID=Asia/Kolkata:20191124T013000
DTSTAMP:20260419T223703
CREATED:20191005T015013Z
LAST-MODIFIED:20191006T030742Z
UID:17419-1574551800-1574559000@dev.acropolis.org.in
SUMMARY:Celebrating World Philosophy Day – Tagore\, the poet philosopher
DESCRIPTION:“Our passions and desires are unruly\, but our character subdues these elements into a harmonious whole\,” said Rabindranath Tagore. What can we learn from this noble laureate in literature who was a polymath\, poet\, philosopher and artist\, that could shape our lives more beautifully? Join us as we take a glimpse into his literary works and his exemplary life. \nRSVPfor Free Seat – http://bit.ly/2owQEBK
URL:https://dev.acropolis.org.in/event/celebrating-world-philosophy-day-tagore-the-poet-philosopher/
LOCATION:New Acropolis Pune\, Row House No. 6\, Gera Classics Condominium Next to St. Meers's college\, Koregaon park road Pune\, Maharashtra 411001\, Pune\, Maharashtra\, 411001\, India
CATEGORIES:Philosophy,Pune
ATTACH;FMTTYPE=image/jpeg:https://dev.acropolis.org.in/wp-content/uploads/2019/10/tagore_mainbanner-59896b59e4d45.jpg
ORGANIZER;CN="New Acropolis Pune":MAILTO:pune@acropolis.org
END:VEVENT
BEGIN:VEVENT
DTSTART;TZID=Asia/Kolkata:20191119T233000
DTEND;TZID=Asia/Kolkata:20191120T013000
DTSTAMP:20260419T223703
CREATED:20191005T014742Z
LAST-MODIFIED:20191006T030742Z
UID:17418-1574206200-1574213400@dev.acropolis.org.in
SUMMARY:The mind – our best friend or worst enemy?
DESCRIPTION:Many of our thoughts may not be helpful to us – some\, in fact\, could become the very roadblocks that we struggle to overcome. Especially if they are deeply entrenched in negative territories like anger\, pride or ego. And yet\, when used in a more productive way\, the mind can be a potent force. How do we turn this powerful tool into an ally? Let’s explore at this free talk. \n\nRSVP for free seat – http://bit.ly/2mRFt6p \n\n\n\n\n 
URL:https://dev.acropolis.org.in/event/the-mind-our-best-friend-or-worst-enemy/
LOCATION:New Acropolis Pune\, Row House No. 6\, Gera Classics Condominium Next to St. Meers's college\, Koregaon park road Pune\, Maharashtra 411001\, Pune\, Maharashtra\, 411001\, India
CATEGORIES:Philosophy,Pune
ATTACH;FMTTYPE=image/jpeg:https://dev.acropolis.org.in/wp-content/uploads/2019/10/mind.jpg
ORGANIZER;CN="New Acropolis Pune":MAILTO:pune@acropolis.org
END:VEVENT
BEGIN:VEVENT
DTSTART;TZID=Asia/Kolkata:20191115T010000
DTEND;TZID=Asia/Kolkata:20191115T030000
DTSTAMP:20260419T223703
CREATED:20191106T004655Z
LAST-MODIFIED:20191106T004719Z
UID:18319-1573779600-1573786800@dev.acropolis.org.in
SUMMARY:Living Philosophy - Discover\, Awaken and Transform
DESCRIPTION:RSVP for the Free introductory class on 14th November – http://bit.ly/33e0wzt \nCourse begins – 21st November (For 15 consecutive Thursdays) \nFor more details – Please call 9930198253 \nThis course invites the aspiring philosopher to a life of adventure. It is an invitation to embark upon a journey of ancient cultures and classical traditions to understand the causes and wisdom of their most audacious and valiant pursuits that we have available as our legacy today. Be it the pyramids of Egypt\, the arduous trials of the Buddha in his pursuit of truth or Arjun’s conquest over himself in the Bhagvad Gita. \nThe course guides the participant to start developing a direction to navigate the many choices that life presents. This is to truly participate in “Living Philosophy”\, a way where the investigation is to apply the learnings and allow a transformed attitude with which to live. \nTo bring a positive change needs us to face challenges with courage and freedom. This course has the ingredients to imagine how we may be the ones that champion this change\, which necessarily first starts with ourselves.\nThe successful completion of this course is a first step and qualifies the participant to continue this journey of investigation with the scholastic program of the School of Philosophy of New Acropolis and pursue the path to be a member of the school.
URL:https://dev.acropolis.org.in/event/living-philosophy-discover-awaken-and-transform/
LOCATION:New Acropolis Pune\, Row House No. 6\, Gera Classics Condominium Next to St. Meers's college\, Koregaon park road Pune\, Maharashtra 411001\, Pune\, Maharashtra\, 411001\, India
CATEGORIES:Philosophy,Pune
ATTACH;FMTTYPE=image/jpeg:https://dev.acropolis.org.in/wp-content/uploads/2019/11/https_cdn.evbuc_.com_images_46720674_213611455990_1_original-Copy-1.jpg
END:VEVENT
BEGIN:VEVENT
DTSTART;TZID=Asia/Kolkata:20191020T233000
DTEND;TZID=Asia/Kolkata:20191021T013000
DTSTAMP:20260419T223703
CREATED:20191005T014338Z
LAST-MODIFIED:20191006T031118Z
UID:17417-1571614200-1571621400@dev.acropolis.org.in
SUMMARY:Music and Life … the inward journey! (Hindustani Classical Music Recital)
DESCRIPTION:‘Music is one such form of art which\, being creative and technical has a big power of imagination and another major power of achieving harmony and happiness. Well if we ask ourselves\, this is what we strive for ultimately in life. Music according to me is the best medium for this journey…..because true philosophy begins when the journey starts inwards. Music\, I believe is one of the most harmonious weapons to bring about Emotional\, Spiritual and Social Upliftment. The entire session gives a beautiful blend of Music and Philosophy further developing all of the above.’ – Kashmira Sarnobat \nJoin us for a Hindustani Classical music recital by Kashmira Sarnobat\, disciple of Guru Smt Padmatai Talwalkar. \nRSVP for Free Seat – https://bit.ly/2o97bLS
URL:https://dev.acropolis.org.in/event/music-and-life-the-inward-journey-hindustani-classical-music-recital/
LOCATION:New Acropolis Pune\, Row House No. 6\, Gera Classics Condominium Next to St. Meers's college\, Koregaon park road Pune\, Maharashtra 411001\, Pune\, Maharashtra\, 411001\, India
CATEGORIES:Culture,Pune
ATTACH;FMTTYPE=image/jpeg:https://dev.acropolis.org.in/wp-content/uploads/2019/10/bright-1866717_1920.jpg
ORGANIZER;CN="New Acropolis Pune":MAILTO:pune@acropolis.org
END:VEVENT
BEGIN:VEVENT
DTSTART;TZID=Asia/Kolkata:20191005T233000
DTEND;TZID=Asia/Kolkata:20191006T013000
DTSTAMP:20260419T223703
CREATED:20191005T014143Z
LAST-MODIFIED:20191006T030745Z
UID:17416-1570318200-1570325400@dev.acropolis.org.in
SUMMARY:Let’s light the spark of adventure! (Free Talk)
DESCRIPTION:Celebrating 150 Years of the Birth of Mahatma Gandhi \nRSVP for Free seat – https://bit.ly/2oQ5MdM\nDo we dare to break inner boundaries and venture into the unknown? It takes courage to take risks\, make mistakes sometimes and learn from them. Let’s explore how to approach life and live it with a spirit of adventure\, every moment.
URL:https://dev.acropolis.org.in/event/lets-light-the-spark-of-adventure-free-talk/
LOCATION:New Acropolis Pune\, Row House No. 6\, Gera Classics Condominium Next to St. Meers's college\, Koregaon park road Pune\, Maharashtra 411001\, Pune\, Maharashtra\, 411001\, India
CATEGORIES:Philosophy,Pune
ATTACH;FMTTYPE=image/jpeg:https://dev.acropolis.org.in/wp-content/uploads/2019/10/70500639.jpg
ORGANIZER;CN="New Acropolis Pune":MAILTO:pune@acropolis.org
END:VEVENT
END:VCALENDAR