BEGIN:VCALENDAR
VERSION:2.0
PRODID:-//New Acropolis Cultural Organization - ECPv6.15.15//NONSGML v1.0//EN
CALSCALE:GREGORIAN
METHOD:PUBLISH
X-WR-CALNAME:New Acropolis Cultural Organization
X-ORIGINAL-URL:https://dev.acropolis.org.in
X-WR-CALDESC:Events for New Acropolis Cultural Organization
REFRESH-INTERVAL;VALUE=DURATION:PT1H
X-Robots-Tag:noindex
X-PUBLISHED-TTL:PT1H
BEGIN:VTIMEZONE
TZID:Asia/Kolkata
BEGIN:STANDARD
TZOFFSETFROM:+0530
TZOFFSETTO:+0530
TZNAME:IST
DTSTART:20190101T000000
END:STANDARD
END:VTIMEZONE
BEGIN:VEVENT
DTSTART;TZID=Asia/Kolkata:20200514T010000
DTEND;TZID=Asia/Kolkata:20200514T020000
DTSTAMP:20260419T223041
CREATED:20200505T212629Z
LAST-MODIFIED:20200513T050203Z
UID:19745-1589418000-1589421600@dev.acropolis.org.in
SUMMARY:Free Online Introduction to Living Philosophy Course (Colaba)
DESCRIPTION:Mumbai (Colaba): Wed\, 13th May 7:30PM (1 hr) \nLimited Seats: Only 10 Students per Course | Camera enabled device required for online classes\nIn what direction is our world moving? What is our role in it? In times of uncertainty\, we are confronted with essential questions about the meaning of life. Perhaps the timeless wisdom of ancient civilizations can offer direction as we navigate through our present challenges. Through the teachings of Plato\, the life of the Buddha\, and the tenets of Confucianism\, amongst others\, discover a philosophical way to live. Together\, let us awaken our human spirit and dare to build a better future based on Goodness\, Truth\, Beauty and Justice. \nCourse Duration: 16 Week Course | 1.5 hrs once a week \nCourse syllabus is shared here \nRegister here for the online introductory class\nCourse will begin online and continue at our centre in Colaba when circumstances permit.  \nCourse Enrolment confirmed following a preliminary interaction with instructor | Rights to Admission Reserved \nFor more details  Email: info@acropolis.org.in or Call: +91-22-22163712\n\n x   (x)
URL:https://dev.acropolis.org.in/event/free-online-introduction-to-living-philosophy-course-colaba/
LOCATION:Online (Zoom Session)
CATEGORIES:Colaba,Event,Mumbai Events
ATTACH;FMTTYPE=image/jpeg:https://dev.acropolis.org.in/wp-content/uploads/2019/09/Living-Philosophy-Course.jpg
END:VEVENT
BEGIN:VEVENT
DTSTART;TZID=Asia/Kolkata:20200422T010000
DTEND;TZID=Asia/Kolkata:20200422T020000
DTSTAMP:20260419T223041
CREATED:20200505T043045Z
LAST-MODIFIED:20200505T043045Z
UID:19504-1587517200-1587520800@dev.acropolis.org.in
SUMMARY:Intro session to Living Philosophy - Tuesdays at Jayanagar
DESCRIPTION:  \n\nSIGN UP FOR THE INTRO SESSION HERE \nLiving Philosophy is a 16-week foundation course in Practical Philosophy that brings the wisdom of ancient Eastern and Western philosophies to inspire us and help us lead more harmonious lives in today’s times. \nDown the ages\, human beings have pursued a life of meaning\, purposefulness\, balance\, and fulfillment. Philosophy was traditionally meant to be a practical means for this universal quest\, a way of life with meaning. When Philosophy is practical\, it is educational\, helping us to know ourselves and to improve ourselves. \nThrough these 16 sessions (1 session of 2 hours per week)\, the Living Philosophy course touches different practical\, universal and timeless concepts of life from the wisdom of cultures and civilizations of the ancient world\, with the perspective of how these can become practical tools to make a profound\, lasting difference in our lives today. \nThe Living Philosophy journey traverses three sections: \nKnow Thyself \nStarting with human nature – to understand ourselves and the means to give expression to our best human potential. How can we deal effectively with change and uncertainty in our lives? Perspectives from the philosophies of ancient India\, Greece\, Tibet\, Rome\, Egypt and China about Human nature\, happiness and freedom. \nHuman Relationships and Society \nThe quality of our life depends greatly on the quality of our relationships. What can we learn from cultures like ancient Greece that will help us develop deeper relationships\, understand the fabric of society and find our place in it? Key topics include principles of Ethical Leadership\, Justice and Education. \nEvolution of Humanity \nWhat is our future? The zoomed-out picture: As humanity\, where have we come from\, where are we going\, and what is the role of the individual in the larger scheme of life? Wisdom from eclectic philosophical sources to understand what it means to be human\, through the concept of evolution of consciousness. Ecology as a key to Harmony: harmonizing our actions in accordance with nature. \nThe sessions include lectures and active practical exercises to enable introspection and reflection\, making the teachings practical and applicable to contemporary living. The course also includes an experiential seminar and a leadership workshop. \nWe welcome you to take this journey into yourself\, which will help you understand yourself and the world around you better\, enabling you to live a more fulfilling and meaningful life. \nTo know more\, you are welcome to attend a free introductory session on: April 14 or April 21\, at 7:30 to 8:30 PM \nSIGN UP FOR THE INTRO SESSION HERE \nCourse begins on: April 28\, 7:30 pm to 9:30 pm \nNote: Due to the current situation\, the course will be started with all introductory sessions and initial classes being conducted online. Please note that when there is confirmation of resumption of in-person events and activities\, the classes will be conducted in-person at the Indiranagar main center of New Acropolis (India). \nFor more information\, contact us at: 9986145294 | anand@acropolis.org \n\n x   (x)
URL:https://dev.acropolis.org.in/event/intro-session-to-living-philosophy-tuesdays-at-jayanagar/
LOCATION:New Acropolis Bangalore – Jayanagar\, Ground Floor\, #264\, 7th Cross Rd\, 6th Block\, 1st Block\, Jayanagar\, Bengaluru\, Karnataka 560011\, India
CATEGORIES:Bangalore Events,Event,Jayanagar,Philosophy
ATTACH;FMTTYPE=image/jpeg:https://dev.acropolis.org.in/wp-content/uploads/2020/04/LP_Website-2.jpg
END:VEVENT
END:VCALENDAR